BEGIN:VCALENDAR
VERSION:2.0
PRODID:-//Stratford-upon-Avon Town Council//Meeting Calendar//EN
CALSCALE:GREGORIAN
METHOD:PUBLISH
BEGIN:VEVENT
UID:74118-20270521@stratford-tc.gov.uk
DTSTAMP:20260421T130021Z
DTSTART;VALUE=DATE:20270521
DTEND;VALUE=DATE:20270522
SUMMARY:Annual Meeting &#038\\; Mayor Making &#8211\\; 21.05.2027 12 noon
DESCRIPTION:Annual Parish Meeting\nView details: https://stratford-tc.gov.uk/meetings/annual-meeting-mayor-making-21-05-2027-12-noon/
URL:https://stratford-tc.gov.uk/meetings/annual-meeting-mayor-making-21-05-2027-12-noon/
END:VEVENT
END:VCALENDAR
