BEGIN:VCALENDAR
VERSION:2.0
PRODID:-//Stratford-upon-Avon Town Council//Meeting Calendar//EN
CALSCALE:GREGORIAN
METHOD:PUBLISH
BEGIN:VEVENT
UID:74114-20270304@stratford-tc.gov.uk
DTSTAMP:20260421T114647Z
DTSTART;VALUE=DATE:20270304
DTEND;VALUE=DATE:20270305
SUMMARY:Town Meeting &#8211\\; 04.03.2027
DESCRIPTION:Annual Parish Meeting\nView details: https://stratford-tc.gov.uk/meetings/town-meeting-04-03-2027/
URL:https://stratford-tc.gov.uk/meetings/town-meeting-04-03-2027/
END:VEVENT
END:VCALENDAR
