BEGIN:VCALENDAR
VERSION:2.0
PRODID:-//Stratford-upon-Avon Town Council//Meeting Calendar//EN
CALSCALE:GREGORIAN
METHOD:PUBLISH
BEGIN:VEVENT
UID:74102-20260515@stratford-tc.gov.uk
DTSTAMP:20260421T102038Z
DTSTART;VALUE=DATE:20260515
DTEND;VALUE=DATE:20260516
SUMMARY:Annual Meeting &#038\\; Mayor Making &#8211\\; 15.05.2026 12 noon
DESCRIPTION:Annual Parish Meeting\nView details: https://stratford-tc.gov.uk/meetings/annual-meeting-mayor-making-15-05-2026-12-noon/
URL:https://stratford-tc.gov.uk/meetings/annual-meeting-mayor-making-15-05-2026-12-noon/
END:VEVENT
END:VCALENDAR
