BEGIN:VCALENDAR
VERSION:2.0
PRODID:-//Stratford-upon-Avon Town Council//Meeting Calendar//EN
CALSCALE:GREGORIAN
METHOD:PUBLISH
BEGIN:VEVENT
UID:72229-20260428@stratford-tc.gov.uk
DTSTAMP:20260421T101132Z
DTSTART;VALUE=DATE:20260428
DTEND;VALUE=DATE:20260429
SUMMARY:Personnel Committee Meeting &#8211\\; 28.04.2026
DESCRIPTION:Personnel Committee Meeting\nView details: https://stratford-tc.gov.uk/meetings/personnel-committee-meeting-28-04-2026/
URL:https://stratford-tc.gov.uk/meetings/personnel-committee-meeting-28-04-2026/
END:VEVENT
END:VCALENDAR
