BEGIN:VCALENDAR
VERSION:2.0
PRODID:-//Stratford-upon-Avon Town Council//Meeting Calendar//EN
CALSCALE:GREGORIAN
METHOD:PUBLISH
BEGIN:VEVENT
UID:72145-20250516@stratford-tc.gov.uk
DTSTAMP:20260421T101839Z
DTSTART;VALUE=DATE:20250516
DTEND;VALUE=DATE:20250517
SUMMARY:Annual Meeting &#038\\; Mayor Making &#8211\\; 16.05.2025
DESCRIPTION:Annual Parish Meeting\nView details: https://stratford-tc.gov.uk/meetings/annual-meeting-mayor-making-16-05-2025/
URL:https://stratford-tc.gov.uk/meetings/annual-meeting-mayor-making-16-05-2025/
END:VEVENT
END:VCALENDAR
