BEGIN:VCALENDAR
VERSION:2.0
PRODID:-//Stratford-upon-Avon Town Council//Meeting Calendar//EN
CALSCALE:GREGORIAN
METHOD:PUBLISH
BEGIN:VEVENT
UID:72072-20250218@stratford-tc.gov.uk
DTSTAMP:20260421T083453Z
DTSTART;VALUE=DATE:20250218
DTEND;VALUE=DATE:20250219
SUMMARY:Community Services &#038\\; Environment Committee Meeting &#8211\\; 18.02.2025
DESCRIPTION:Community Services and Environment Committee Meeting\nView details: https://stratford-tc.gov.uk/meetings/community-services-environment-committee-meeting-18-02-2025/
URL:https://stratford-tc.gov.uk/meetings/community-services-environment-committee-meeting-18-02-2025/
END:VEVENT
END:VCALENDAR
