BEGIN:VCALENDAR
VERSION:2.0
PRODID:-//Stratford-upon-Avon Town Council//Meeting Calendar//EN
CALSCALE:GREGORIAN
METHOD:PUBLISH
BEGIN:VEVENT
UID:71836-20250408@stratford-tc.gov.uk
DTSTAMP:20260419T125008Z
DTSTART;VALUE=DATE:20250408
DTEND;VALUE=DATE:20250409
SUMMARY:CANCELLED &#8211\\; Planning Consultative Committee Meeting 08.04.2025
DESCRIPTION:Planning Consultative Committee Meeting\nView details: https://stratford-tc.gov.uk/meetings/planning-consultative-committee-meeting-08-04-2025/
URL:https://stratford-tc.gov.uk/meetings/planning-consultative-committee-meeting-08-04-2025/
END:VEVENT
END:VCALENDAR
