BEGIN:VCALENDAR
VERSION:2.0
PRODID:-//Stratford-upon-Avon Town Council//Meeting Calendar//EN
CALSCALE:GREGORIAN
METHOD:PUBLISH
BEGIN:VEVENT
UID:71469-20250520@stratford-tc.gov.uk
DTSTAMP:20260419T120122Z
DTSTART;VALUE=DATE:20250520
DTEND;VALUE=DATE:20250521
SUMMARY:MEETING CANCELLED &#8211\\; Planning Consultative Committee Meeting &#8211\\; 20.05.2025
DESCRIPTION:Planning Consultative Committee Meeting\nView details: https://stratford-tc.gov.uk/meetings/planning-consultative-committee-meeting/
URL:https://stratford-tc.gov.uk/meetings/planning-consultative-committee-meeting/
END:VEVENT
END:VCALENDAR
