BEGIN:VCALENDAR
VERSION:2.0
PRODID:-//Stratford-upon-Avon Town Council//Meeting Calendar//EN
CALSCALE:GREGORIAN
METHOD:PUBLISH
BEGIN:VEVENT
UID:71123-20240123@stratford-tc.gov.uk
DTSTAMP:20260422T085145Z
DTSTART;VALUE=DATE:20240123
DTEND;VALUE=DATE:20240124
SUMMARY:Civic\\, Heritage &#038\\; Events Committee Meeting &#8211\\; 23.1.24
DESCRIPTION:Civic, Heritage &amp; Events Committee Meeting\nView details: https://stratford-tc.gov.uk/meetings/civic-heritage-events-committee-meeting-23-1-24/
URL:https://stratford-tc.gov.uk/meetings/civic-heritage-events-committee-meeting-23-1-24/
END:VEVENT
END:VCALENDAR
