BEGIN:VCALENDAR
VERSION:2.0
PRODID:-//Stratford-upon-Avon Town Council//Meeting Calendar//EN
CALSCALE:GREGORIAN
METHOD:PUBLISH
BEGIN:VEVENT
UID:70995-20240820@stratford-tc.gov.uk
DTSTAMP:20260419T140325Z
DTSTART;VALUE=DATE:20240820
DTEND;VALUE=DATE:20240821
SUMMARY:Planning Consultative Committee &#8211\\; 20.8.24
DESCRIPTION:Planning Consultative Committee Meeting\nView details: https://stratford-tc.gov.uk/meetings/planning-consultative-committee-20-8-24/
URL:https://stratford-tc.gov.uk/meetings/planning-consultative-committee-20-8-24/
END:VEVENT
END:VCALENDAR
