BEGIN:VCALENDAR
VERSION:2.0
PRODID:-//Stratford-upon-Avon Town Council//Meeting Calendar//EN
CALSCALE:GREGORIAN
METHOD:PUBLISH
BEGIN:VEVENT
UID:70932-20241112@stratford-tc.gov.uk
DTSTAMP:20260419T122553Z
DTSTART;VALUE=DATE:20241112
DTEND;VALUE=DATE:20241113
SUMMARY:Planning Consultative Committee Meeting &#8211\\; 12.11.24
DESCRIPTION:Planning Consultative Committee Meeting\nView details: https://stratford-tc.gov.uk/meetings/planning-consultative-committee-12-11-24/
URL:https://stratford-tc.gov.uk/meetings/planning-consultative-committee-12-11-24/
END:VEVENT
END:VCALENDAR
